BEGIN:VCALENDAR
VERSION:2.0
PRODID:https://www.kufer.de/kuferweb / DE
METHOD:PUBLISH
CALSCALE:GREGORIAN
X-WR-TIMEZONE:Europe/Berlin
BEGIN:VTIMEZONE
TZID:Europe/Berlin
X-LIC-LOCATION:Europe/Berlin
BEGIN:DAYLIGHT
TZOFFSETFROM:+0100
TZOFFSETTO:+0200
TZNAME:CEST
DTSTART:19700329T020000
RRULE:FREQ=YEARLY;INTERVAL=1;BYDAY=-1SU;BYMONTH=3
END:DAYLIGHT
BEGIN:STANDARD
TZOFFSETFROM:+0200
TZOFFSETTO:+0100
TZNAME:CET
DTSTART:19701025T030000
RRULE:FREQ=YEARLY;INTERVAL=1;BYDAY=-1SU;BYMONTH=10
END:STANDARD
END:VTIMEZONE
BEGIN:VEVENT
DTSTAMP:20260421T225820
DTSTART;TZID=Europe/Berlin:20260721T173000
DTEND;TZID=Europe/Berlin:20260721T190000
UID:261-3708-20260721T173000@VHSWETZLAR
SUMMARY:Sanfte Fitness für Wetterfrösche - Outdoorkurs (261-3708) 
LOCATION:Treffpunkt: Parkplatz Neuer Friedhof in Naunheim (Ende Bachstraße), , 
END:VEVENT
BEGIN:VEVENT
DTSTAMP:20260421T225820
DTSTART;TZID=Europe/Berlin:20260728T173000
DTEND;TZID=Europe/Berlin:20260728T190000
UID:261-3708-20260728T173000@VHSWETZLAR
SUMMARY:Sanfte Fitness für Wetterfrösche - Outdoorkurs (261-3708) 
LOCATION:Treffpunkt: Parkplatz Neuer Friedhof in Naunheim (Ende Bachstraße), , 
END:VEVENT
BEGIN:VEVENT
DTSTAMP:20260421T225820
DTSTART;TZID=Europe/Berlin:20260804T173000
DTEND;TZID=Europe/Berlin:20260804T190000
UID:261-3708-20260804T173000@VHSWETZLAR
SUMMARY:Sanfte Fitness für Wetterfrösche - Outdoorkurs (261-3708) 
LOCATION:Treffpunkt: Parkplatz Neuer Friedhof in Naunheim (Ende Bachstraße), , 
END:VEVENT
BEGIN:VEVENT
DTSTAMP:20260421T225820
DTSTART;TZID=Europe/Berlin:20260811T173000
DTEND;TZID=Europe/Berlin:20260811T190000
UID:261-3708-20260811T173000@VHSWETZLAR
SUMMARY:Sanfte Fitness für Wetterfrösche - Outdoorkurs (261-3708) 
LOCATION:Treffpunkt: Parkplatz Neuer Friedhof in Naunheim (Ende Bachstraße), , 
END:VEVENT
BEGIN:VEVENT
DTSTAMP:20260421T225820
DTSTART;TZID=Europe/Berlin:20260818T173000
DTEND;TZID=Europe/Berlin:20260818T190000
UID:261-3708-20260818T173000@VHSWETZLAR
SUMMARY:Sanfte Fitness für Wetterfrösche - Outdoorkurs (261-3708) 
LOCATION:Treffpunkt: Parkplatz Neuer Friedhof in Naunheim (Ende Bachstraße), , 
END:VEVENT
BEGIN:VEVENT
DTSTAMP:20260421T225820
DTSTART;TZID=Europe/Berlin:20260825T173000
DTEND;TZID=Europe/Berlin:20260825T190000
UID:261-3708-20260825T173000@VHSWETZLAR
SUMMARY:Sanfte Fitness für Wetterfrösche - Outdoorkurs (261-3708) 
LOCATION:Treffpunkt: Parkplatz Neuer Friedhof in Naunheim (Ende Bachstraße), , 
END:VEVENT
END:VCALENDAR